BEGIN:VCALENDAR
METHOD:PUBLISH
VERSION:2.0
PRODID:-//WoltLab GmbH//WoltLab Suite Calendar 5.4//EN
CALSCALE:GREGORIAN
X-WR-CALNAME;VALUE=TEXT:Versöhnung von Fußgängern\, Fahrrad und Auto – Disk
 ussionsveranstaltung der CDU-Fraktion
BEGIN:VEVENT
TRANSP:OPAQUE
UID:event-553@radverkehrsforum.de
URL:https://radverkehrsforum.de/calendar/event/1748-vers%C3%B6hnung-von-fu%
 C3%9Fg%C3%A4ngern-fahrrad-und-auto-diskussionsveranstaltung-der-cdu-frak/
DTSTART:20221118T170000Z
DTSTAMP:20221118T170000Z
CREATED:20221118T170000Z
SUMMARY:Versöhnung von Fußgängern\, Fahrrad und Auto – Diskussionsveranstal
 tung der CDU-Fraktion
DESCRIPTION:https://cdu-fraktion-eimsbuettel.de/termine/versoehnung-von-fus
 sgaengern-fahrrad-und-auto-diskussionsveranstaltung-der-cdu-faktion/
LOCATION:Schäferkampsallee 1\, 20357 Hamburg\, Deutschland
GEO:53.5675659;9.9693079
DTEND:20221118T200000Z
END:VEVENT
END:VCALENDAR
