BEGIN:VCALENDAR
METHOD:PUBLISH
VERSION:2.0
PRODID:-//WoltLab GmbH//WoltLab Suite Calendar 5.4//EN
CALSCALE:GREGORIAN
X-WR-CALNAME;VALUE=TEXT:Fairkehrs-Stammtisch\, Vernetzungstreffen VCD mit O
 rganisationen aus dem LK Fürstenfeldbruck
BEGIN:VEVENT
TRANSP:OPAQUE
UID:event-551@radverkehrsforum.de
URL:https://radverkehrsforum.de/calendar/event/1746-fairkehrs-stammtisch-ve
 rnetzungstreffen-vcd-mit-organisationen-aus-dem-lk-f%C3%BCrste/
DTSTART:20221010T173000Z
DTSTAMP:20221010T173000Z
CREATED:20221010T173000Z
SUMMARY:Fairkehrs-Stammtisch\, Vernetzungstreffen VCD mit Organisationen au
 s dem LK Fürstenfeldbruck
DESCRIPTION:Zum Format insgesamt:\n\n      Thema        VCD Fairkehrsstammt
 isch als Vernetzungstreffen lokaler          Gruppierungen und Initiativen\
 n        Eingeladen werden VCD Mitglieder und Multiplikatoren anderer      
     Gruppierungen\n      \n            Ziele des Termins\n              Zie
 l des Termins ist die verkehrspolitisch Aktiven im          Landkreis an ei
 nen Tisch zu bringen und Schnittmengen zu          suchen\n        Ein weit
 eres Ziel ist die Klärung\, wie diese Gruppe          zukünftig vernetzt zu
 sammenwirken könnte\n      \n            Grobe Agenda \n              Vorst
 ellung der Vertreter*innen aus den unterschiedlichen          Gruppierungen
  und deren Themen\n        Identifikation inhaltlicher Schnittmengen\n     
    Klärung eines möglichen Zusammenwirkens der Gruppierungen
LOCATION:82216 Maisach\, Deutschland
GEO:48.2165146;11.2572403
DTEND:20221010T215900Z
END:VEVENT
END:VCALENDAR
