BEGIN:VCALENDAR
METHOD:PUBLISH
VERSION:2.0
PRODID:-//WoltLab GmbH//WoltLab Suite Calendar 5.4//EN
CALSCALE:GREGORIAN
X-WR-CALNAME;VALUE=TEXT:Gerichtsverhandlung Hamburg - Fahrlässige Tötung im
  Straßenverkehr
BEGIN:VEVENT
TRANSP:OPAQUE
UID:event-458@radverkehrsforum.de
URL:https://radverkehrsforum.de/calendar/event/1647-gerichtsverhandlung-ham
 burg-fahrl%C3%A4ssige-t%C3%B6tung-im-stra%C3%9Fenverkehr/
DTSTART:20210611T070000Z
DTSTAMP:20210611T070000Z
CREATED:20210611T070000Z
SUMMARY:Gerichtsverhandlung Hamburg - Fahrlässige Tötung im Straßenverkehr
DESCRIPTION:Quelle: Presseliste Staatsanwaltschaft Hamburg\n\nFreitag\, den
  11.06.2021\, 09.15 Uhr * AG HH\, Abt. 243 * 297\, Strafjustizgebäude*\n\nE
 . (56) * Fahrlässige Tötung * 2151 Js 456/19 (243 Ds 19/20)\n\n\nDem Angekl
 agten E. wird fahrlässige Tötung im Straßenverkehr zur Last gelegt. Am\n\nM
 orgen des 08.10.2019 soll er bei Dunkelheit mit einer überhöhten\n\nGeschwi
 ndigkeit von mindestens 79 km/h mit seinem PKW die Straße \"Bei den St.\n\n
 Pauli Landungsbrücken\" befahren und im Kreuzungsbereich zur Helgoländer Al
 lee\n\nden bei Grünlicht links abbiegenden Fahrradfahrer S. übersehen und e
 rfasst\n\nhaben. S. erlitt ein Polytrauma einschließlich eines Schädel-Hirn
 traumas und\n\nverstarb.
DTEND:20210611T140000Z
CATEGORIES:Hamburg,Gerichtsprozess,Fahrlässige Tötung
END:VEVENT
END:VCALENDAR
