BEGIN:VCALENDAR
METHOD:PUBLISH
VERSION:2.0
PRODID:-//WoltLab GmbH//WoltLab Suite Calendar 5.4//EN
CALSCALE:GREGORIAN
X-WR-CALNAME;VALUE=TEXT:Prozess wegen Nötigung und vorsätzlicher Körperverl
 etzung
BEGIN:VEVENT
TRANSP:TRANSPARENT
UID:event-372@radverkehrsforum.de
URL:https://radverkehrsforum.de/calendar/event/1561-prozess-wegen-n%C3%B6ti
 gung-und-vors%C3%A4tzlicher-k%C3%B6rperverletzung/
DTSTART;VALUE=DATE:20200909
DTSTAMP:20200909T000000Z
CREATED:20200909T000000Z
SUMMARY:Prozess wegen Nötigung und vorsätzlicher Körperverletzung
DESCRIPTION:(Quelle: Presseverteiler der Staatsanwaltschaft Hamburg)\n\nMit
 twoch\, den 09.09.2020\, 10.30 Uhr * AG HH-Harburg\, Abt. 623 * A 3.06/Eben
 e 3\,\n\n\nBuxtehuder Str. 9 * A. (48) * Nötigung\, Körperverletzung * 2011
  Js 202/20 (623\nCs 76/20)\n\nA. wendet sich gegen einen Strafbefehl über e
 ine Gesamtgeldstrafe\n\nvon 100 Tagessätzen wegen Nötigung und vorsätzliche
 r\n\nKörperverletzung. Er soll den Geschädigten P.\, der mit seinen\n\nbeid
 en Töchtern eine Radtour unternahm und in der Wilstorfer\n\nStraße den dort
 igen Radweg befuhr\, am 15.09.2019 mit seinem PKW\n\nüberholt\, vor P. auf 
 den Radweg gefahren und ihn bewusst\n\nabgedrängt haben. Sodann soll A. aus
  seinem Fahrzeug\n\nausgestiegen und P. in Gegenwart seiner Töchter ins Ges
 icht\n\ngeschlagen haben. Der Angeklagte war darüber verärgert\, dass P.\n\
 nihn zuvor gebeten hatte\, den Radweg nicht wegen eines\n\nTelefonats in se
 inem PKW zu blockieren.
DTEND;VALUE=DATE:20200910
CATEGORIES:Hamburg-Harburg,Amtsgericht
END:VEVENT
END:VCALENDAR
