BEGIN:VCALENDAR
METHOD:PUBLISH
VERSION:2.0
PRODID:-//WoltLab GmbH//WoltLab Suite Calendar 5.4//EN
CALSCALE:GREGORIAN
X-WR-CALNAME;VALUE=TEXT:Mehr Platz für´s Rad in Lüneburg
BEGIN:VEVENT
TRANSP:OPAQUE
UID:event-370@radverkehrsforum.de
URL:https://radverkehrsforum.de/calendar/event/1559-mehr-platz-f%C3%BCr-s-r
 ad-in-l%C3%BCneburg/
DTSTART:20200919T100000Z
DTSTAMP:20200919T100000Z
CREATED:20200919T100000Z
SUMMARY:Mehr Platz für´s Rad in Lüneburg
DESCRIPTION:Sternfahrt und Fahrrad-Demo in Lüneburg\n\nhttps://verkehrswend
 e-lg.jetzt/\n\nhttp://lbg.adfc-nds.de/fileadmin/lueneburg/dokumente/Tag-der
 -Mobilitaet-in-Lueneburg.pdf
LOCATION:Clamart-Park\, Lüneburg
GEO:52.5169983;13.3999996
DTEND:20200919T130000Z
CATEGORIES:ADFC,Sternfahrt,Demonstration
END:VEVENT
END:VCALENDAR
