BEGIN:VCALENDAR
METHOD:PUBLISH
VERSION:2.0
PRODID:-//WoltLab GmbH//WoltLab Suite Calendar 5.4//EN
CALSCALE:GREGORIAN
X-WR-CALNAME;VALUE=TEXT:Fahrradsternfahrt München
BEGIN:VEVENT
TRANSP:TRANSPARENT
UID:event-329@radverkehrsforum.de
URL:https://radverkehrsforum.de/calendar/event/1518-fahrradsternfahrt-m%C3%
 BCnchen/
DTSTART;VALUE=DATE:20200419
DTSTAMP:20200419T000000Z
CREATED:20200419T000000Z
SUMMARY:Fahrradsternfahrt München
LOCATION:Königsplatz\, 80333 München\, Deutschland
GEO:48.1457481;11.5655441
DTEND;VALUE=DATE:20200420
CATEGORIES:Fahrradsternfahrt
END:VEVENT
END:VCALENDAR
