BEGIN:VCALENDAR
METHOD:PUBLISH
VERSION:2.0
PRODID:-//WoltLab GmbH//WoltLab Suite Calendar 5.4//EN
CALSCALE:GREGORIAN
X-WR-CALNAME;VALUE=TEXT:13. Kölner Fahrradsternfahrt
BEGIN:VEVENT
TRANSP:TRANSPARENT
UID:event-324@radverkehrsforum.de
URL:https://radverkehrsforum.de/calendar/event/1513-13-k%C3%B6lner-fahrrads
 ternfahrt/
DTSTART;VALUE=DATE:20200621
DTSTAMP:20200621T000000Z
CREATED:20200621T000000Z
SUMMARY:13. Kölner Fahrradsternfahrt
LOCATION:Köln
GEO:52.5169983;13.3999996
DTEND;VALUE=DATE:20200622
CATEGORIES:Sternfahrt
END:VEVENT
END:VCALENDAR
