BEGIN:VCALENDAR
METHOD:PUBLISH
VERSION:2.0
PRODID:-//WoltLab GmbH//WoltLab Suite Calendar 5.4//EN
CALSCALE:GREGORIAN
X-WR-CALNAME;VALUE=TEXT:Volksradfahren Truppenübungsplatz Munster
BEGIN:VEVENT
TRANSP:TRANSPARENT
UID:event-322@radverkehrsforum.de
URL:https://radverkehrsforum.de/calendar/event/1511-volksradfahren-truppen%
 C3%BCbungsplatz-munster/
DTSTART;VALUE=DATE:20200719
DTSTAMP:20200719T000000Z
CREATED:20200719T000000Z
SUMMARY:Volksradfahren Truppenübungsplatz Munster
LOCATION:Oerreler Weg\, 29633 Munster\, Deutschland
GEO:53.0084381;10.1082191
DTEND;VALUE=DATE:20200720
CATEGORIES:Volksradfahren
END:VEVENT
END:VCALENDAR
