BEGIN:VCALENDAR
METHOD:PUBLISH
VERSION:2.0
PRODID:-//WoltLab GmbH//WoltLab Suite Calendar 5.4//EN
CALSCALE:GREGORIAN
X-WR-CALNAME;VALUE=TEXT:Informationsveranstaltung zur Högenstraße
BEGIN:VEVENT
TRANSP:OPAQUE
UID:event-24@radverkehrsforum.de
URL:https://radverkehrsforum.de/calendar/event/32-informationsveranstaltung
 -zur-h%C3%B6genstra%C3%9Fe/
DTSTART:20170531T170000Z
DTSTAMP:20170531T170000Z
CREATED:20170531T170000Z
SUMMARY:Informationsveranstaltung zur Högenstraße
DESCRIPTION:Veloroute 2 Högenstraße am 31.05.2017 [URL:https://www.radverke
 hrsforum.de/index.php/Thread/902-Veloroute-2-H%C3%B6genstra%C3%9Fe-am-31-05
 -2017/?postID=28406#post28406]
LOCATION:Brehmweg 60\, 22527 Hamburg\, Deutschland
GEO:53.5844002;9.9407396
DTEND:20170531T190000Z
CATEGORIES:Veloroute 2
END:VEVENT
END:VCALENDAR
