BEGIN:VCALENDAR
METHOD:PUBLISH
VERSION:2.0
PRODID:-//WoltLab GmbH//WoltLab Suite Calendar 5.4//EN
CALSCALE:GREGORIAN
X-WR-CALNAME;VALUE=TEXT:34C3
BEGIN:VEVENT
TRANSP:TRANSPARENT
UID:event-113@radverkehrsforum.de
URL:https://radverkehrsforum.de/calendar/event/1033-34c3/
DTSTART;VALUE=DATE:20171227
DTSTAMP:20171227T000000Z
CREATED:20171227T000000Z
SUMMARY:34C3
DESCRIPTION:Dieses Jahr residiert der Chaos Communication Congress in Leipz
 ig — Hier geht’s zum Fahrplan [URL:https://events.ccc.de/congress/2017/Fahr
 plan/].
LOCATION:Messe-Alle 1\, 04356 Leipzig\, Deutschland
GEO:51.3954735;12.3988047
DTEND;VALUE=DATE:20171231
END:VEVENT
END:VCALENDAR
